BEGIN:VCALENDAR
PRODID:brasil.gov.agenda
VERSION:1.0
BEGIN:VEVENT
DTSTART:20211021T140000Z
DTEND:20211021T202000Z
DCREATED:20211022T180604Z
UID:Compromisso-dd68f2ef010b42fb925fafa9f3809265
SEQUENCE:0
LAST-MODIFIED:20211022T180604Z
SUMMARY:Reunião Consu 257ª\, sendo a 147ª sessão em caráter ordinário
LOCATION:On-line
PRIORITY:3
TRANSP:0
END:VEVENT
END:VCALENDAR
