BEGIN:VCALENDAR
PRODID:brasil.gov.agenda
VERSION:1.0
BEGIN:VEVENT
DTSTART:20211021T080000Z
DTEND:20211021T120000Z
DCREATED:20211022T180439Z
UID:Compromisso-f99bfef2794e4cd089b2bbe7f226f17a
SEQUENCE:0
LAST-MODIFIED:20211022T180439Z
SUMMARY:Despachos Internos
LOCATION:Reitoria
PRIORITY:3
TRANSP:0
END:VEVENT
END:VCALENDAR
