BEGIN:VCALENDAR
PRODID:brasil.gov.agenda
VERSION:1.0
BEGIN:VEVENT
DTSTART:20211020T110000Z
DTEND:20211020T120000Z
DCREATED:20211022T180329Z
UID:Compromisso-6d7dd39b257142b2a115c3267b688467
SEQUENCE:0
LAST-MODIFIED:20211022T180330Z
SUMMARY:Posse Docente da FAMED
LOCATION:Reitoria
PRIORITY:3
TRANSP:0
END:VEVENT
END:VCALENDAR
