BEGIN:VCALENDAR
PRODID:brasil.gov.agenda
VERSION:1.0
BEGIN:VEVENT
DTSTART:20211020T100000Z
DTEND:20211020T103000Z
DCREATED:20211022T180241Z
UID:Compromisso-2820c9f6868249fd856e8a92509e21f3
SEQUENCE:0
LAST-MODIFIED:20211022T180241Z
SUMMARY:Colação de grau posterior
LOCATION:Reitoria
PRIORITY:3
TRANSP:0
END:VEVENT
END:VCALENDAR
