BEGIN:VCALENDAR
PRODID:brasil.gov.agenda
VERSION:1.0
BEGIN:VEVENT
DTSTART:20211020T093000Z
DTEND:20211020T095900Z
DCREATED:20211022T175924Z
UID:Compromisso-be3098dc7c3b41538493a702614f93b4
SEQUENCE:0
LAST-MODIFIED:20211022T175924Z
SUMMARY:Colação de grau antecipada
LOCATION:Reitoria
PRIORITY:3
TRANSP:0
END:VEVENT
END:VCALENDAR
