BEGIN:VCALENDAR
PRODID:brasil.gov.agenda
VERSION:1.0
BEGIN:VEVENT
DTSTART:20211018T143000Z
DTEND:20211018T160000Z
DCREATED:20211019T113245Z
UID:Compromisso-a28fc02ba49b4fe895ef20295d4a4fe7
SEQUENCE:0
LAST-MODIFIED:20211019T113308Z
SUMMARY:Reunião com Pró-reitor e Diretores
DESCRIPTION:Plataformas Digitais para Aulas
LOCATION:Reitoria
PRIORITY:3
TRANSP:0
END:VEVENT
END:VCALENDAR
