BEGIN:VCALENDAR
PRODID:brasil.gov.agenda
VERSION:1.0
BEGIN:VEVENT
DTSTART:20211018T160000Z
DTEND:20211018T180000Z
DCREATED:20211019T113401Z
UID:Compromisso-629b8771d5f44649b2f7eea3ad83eed1
SEQUENCE:0
LAST-MODIFIED:20211019T113401Z
SUMMARY:Reunião com a Secretária de Processos Administrativos
DESCRIPTION:Processos Administrativos
LOCATION:Reitoria
PRIORITY:3
TRANSP:0
END:VEVENT
END:VCALENDAR
