BEGIN:VCALENDAR
PRODID:brasil.gov.agenda
VERSION:1.0
BEGIN:VEVENT
DTSTART:20211015T143000Z
DTEND:20211015T000000Z
DCREATED:20211019T111943Z
UID:Compromisso-418afc5de3e94b6fb290ef3acfcd9d65
SEQUENCE:0
LAST-MODIFIED:20211019T113123Z
SUMMARY:Despachos Internos
LOCATION:Reitoria
PRIORITY:3
TRANSP:0
END:VEVENT
END:VCALENDAR
