BEGIN:VCALENDAR
PRODID:brasil.gov.agenda
VERSION:1.0
BEGIN:VEVENT
DTSTART:20211013T080000Z
DTEND:20211013T120000Z
DCREATED:20211013T174737Z
UID:Compromisso-0e55acc6ec0c4e11a3d298196d27b1fe
SEQUENCE:0
LAST-MODIFIED:20211013T174737Z
SUMMARY:Despachos Internos
LOCATION:Reitoria
PRIORITY:3
TRANSP:0
END:VEVENT
END:VCALENDAR
