BEGIN:VCALENDAR
PRODID:brasil.gov.agenda
VERSION:1.0
BEGIN:VEVENT
DTSTART:20211013T143000Z
DTEND:20211013T160000Z
DCREATED:20211013T174849Z
UID:Compromisso-85efc2db86224a5ab100d5f0dbc30be8
SEQUENCE:0
LAST-MODIFIED:20211013T174849Z
SUMMARY:Colação de Grau Antecipada
LOCATION:On-line
PRIORITY:3
TRANSP:0
END:VEVENT
END:VCALENDAR
