BEGIN:VCALENDAR
PRODID:brasil.gov.agenda
VERSION:1.0
BEGIN:VEVENT
DTSTART:20211004T143000Z
DTEND:20211004T160000Z
DCREATED:20211004T124025Z
UID:Compromisso-12468455b29542dbad04d0582018fdec
SEQUENCE:0
LAST-MODIFIED:20211004T124025Z
SUMMARY:Reunião com a Secretaria de Processo Administrativo (SecPad)
LOCATION:Reitoria
PRIORITY:3
TRANSP:0
END:VEVENT
END:VCALENDAR
