BEGIN:VCALENDAR
PRODID:brasil.gov.agenda
VERSION:1.0
BEGIN:VEVENT
DTSTART:20211004T080000Z
DTEND:20211004T120000Z
DCREATED:20211004T123958Z
UID:Compromisso-2ea48a66f7cb4db1b8c8a91ceb37cda0
SEQUENCE:0
LAST-MODIFIED:20211004T123958Z
SUMMARY:Despachos Internos
LOCATION:Reitoria
PRIORITY:3
TRANSP:0
END:VEVENT
END:VCALENDAR
