BEGIN:VCALENDAR
PRODID:brasil.gov.agenda
VERSION:1.0
BEGIN:VEVENT
DTSTART:20210929T140000Z
DTEND:20210929T150000Z
DCREATED:20210930T173137Z
UID:Compromisso-a6c2f90b98e84abbbf82afcff4e7ee35
SEQUENCE:0
LAST-MODIFIED:20210930T181837Z
SUMMARY:Despachos Internos
LOCATION:Reitoria
PRIORITY:3
TRANSP:0
END:VEVENT
END:VCALENDAR
