BEGIN:VCALENDAR
PRODID:brasil.gov.agenda
VERSION:1.0
BEGIN:VEVENT
DTSTART:20210924T000000Z
DTEND:20210924T000000Z
DCREATED:20210924T114321Z
UID:Compromisso-7b81fb1b8e784908a1203ad4e95917cf
SEQUENCE:0
LAST-MODIFIED:20210924T114321Z
SUMMARY:Férias regulamentares
LOCATION:Reitoria
PRIORITY:3
TRANSP:0
END:VEVENT
END:VCALENDAR
