BEGIN:VCALENDAR
PRODID:brasil.gov.agenda
VERSION:1.0
BEGIN:VEVENT
DTSTART:20210920T000000Z
DTEND:20210920T000000Z
DCREATED:20210920T125139Z
UID:Compromisso-c140caab230a4390b624de4141df9850
SEQUENCE:0
LAST-MODIFIED:20210920T125139Z
SUMMARY:Despachos Internos
LOCATION:Reitoria
PRIORITY:3
TRANSP:0
END:VEVENT
END:VCALENDAR
