BEGIN:VCALENDAR
PRODID:brasil.gov.agenda
VERSION:1.0
BEGIN:VEVENT
DTSTART:20210916T000000Z
DTEND:20210916T000000Z
DCREATED:20210920T125020Z
UID:Compromisso-e32813bc97ee4673b62d3209ecd624c6
SEQUENCE:0
LAST-MODIFIED:20210920T125020Z
SUMMARY:Férias regulamentares
LOCATION:Reitoria
PRIORITY:3
TRANSP:0
END:VEVENT
END:VCALENDAR
