BEGIN:VCALENDAR
PRODID:brasil.gov.agenda
VERSION:1.0
BEGIN:VEVENT
DTSTART:20210915T000000Z
DTEND:20210915T000000Z
DCREATED:20210915T111757Z
UID:Compromisso-e7feb6f53c8e4935b4a14fc21390dfc3
SEQUENCE:0
LAST-MODIFIED:20210915T111757Z
SUMMARY:Férias regulamentares
LOCATION:Reitoria
PRIORITY:3
TRANSP:0
END:VEVENT
END:VCALENDAR
