BEGIN:VCALENDAR
PRODID:brasil.gov.agenda
VERSION:1.0
BEGIN:VEVENT
DTSTART:20210913T000000Z
DTEND:20210913T000000Z
DCREATED:20210915T112618Z
UID:Compromisso-035c28178e7c4e2e83d2978c579b2b2a
SEQUENCE:0
LAST-MODIFIED:20210915T112618Z
SUMMARY:Férias regulamentares
LOCATION:Reitoria
PRIORITY:3
TRANSP:0
END:VEVENT
END:VCALENDAR
