BEGIN:VCALENDAR
PRODID:brasil.gov.agenda
VERSION:1.0
BEGIN:VEVENT
DTSTART:20210901T080000Z
DTEND:20210901T120000Z
DCREATED:20210901T115823Z
UID:Compromisso-a39d1c250d65448e8675859dcfb1e8aa
SEQUENCE:0
LAST-MODIFIED:20210901T115823Z
SUMMARY:Despachos Internos
LOCATION:Reitoria
PRIORITY:3
TRANSP:0
END:VEVENT
END:VCALENDAR
