BEGIN:VCALENDAR
PRODID:brasil.gov.agenda
VERSION:1.0
BEGIN:VEVENT
DTSTART:20210831T080000Z
DTEND:20210831T100000Z
DCREATED:20210831T170746Z
UID:Compromisso-94e19a3e3f6248fb9fd80c24cd861df1
SEQUENCE:0
LAST-MODIFIED:20210831T170746Z
SUMMARY:Despachos Internos
LOCATION:Reitoria
PRIORITY:3
TRANSP:0
END:VEVENT
END:VCALENDAR
