BEGIN:VCALENDAR
PRODID:brasil.gov.agenda
VERSION:1.0
BEGIN:VEVENT
DTSTART:20210825T150000Z
DTEND:20210825T000000Z
DCREATED:20210825T120038Z
UID:Compromisso-2ceda652757d4cdeb5030ee970d8e877
SEQUENCE:0
LAST-MODIFIED:20210825T120418Z
SUMMARY:Reunião com a CASU/UFMG
DESCRIPTION:Apresentação do Programa da ação da CASU/UFMG\, Projet
 o "APROXIMA - Diamantina"
LOCATION:Reitoria
PRIORITY:3
TRANSP:0
END:VEVENT
END:VCALENDAR
