BEGIN:VCALENDAR
PRODID:brasil.gov.agenda
VERSION:1.0
BEGIN:VEVENT
DTSTART:20210824T103000Z
DTEND:20210824T110000Z
DCREATED:20210825T112925Z
UID:Compromisso-75174ca42dc14474a3d6c6e51e9f7aa1
SEQUENCE:0
LAST-MODIFIED:20210825T112925Z
SUMMARY:Sessão de posse
LOCATION:Reitoria
PRIORITY:3
TRANSP:0
END:VEVENT
END:VCALENDAR
