BEGIN:VCALENDAR
PRODID:brasil.gov.agenda
VERSION:1.0
BEGIN:VEVENT
DTSTART:20210824T080000Z
DTEND:20210824T100000Z
DCREATED:20210823T115258Z
UID:Compromisso-98c681d3c0c54803a250a4757de04335
SEQUENCE:0
LAST-MODIFIED:20210825T112824Z
SUMMARY:Despachos Internos
LOCATION:Reitoria
PRIORITY:3
TRANSP:0
END:VEVENT
END:VCALENDAR
