BEGIN:VCALENDAR
PRODID:brasil.gov.agenda
VERSION:1.0
BEGIN:VEVENT
DTSTART:20210824T140000Z
DTEND:20210824T180000Z
DCREATED:20210823T115321Z
UID:Compromisso-e7f945d00b764c0186c7f0036ad0a15c
SEQUENCE:0
LAST-MODIFIED:20210825T113014Z
SUMMARY:168ª reunião em caráter ordinário do CONSEPE
LOCATION:On-line
PRIORITY:3
TRANSP:0
END:VEVENT
END:VCALENDAR
