BEGIN:VCALENDAR
PRODID:brasil.gov.agenda
VERSION:1.0
BEGIN:VEVENT
DTSTART:20210819T090000Z
DTEND:20210819T100000Z
DCREATED:20210819T130017Z
UID:Compromisso-f7ffb48651dd467e95596ed728a257bb
SEQUENCE:0
LAST-MODIFIED:20210819T130017Z
SUMMARY:Reunião com Pró-reitorias e Comissão
DESCRIPTION:Plano de retorno às aulas práticas presenciais
LOCATION:On-line
PRIORITY:3
TRANSP:0
END:VEVENT
END:VCALENDAR
