BEGIN:VCALENDAR
PRODID:brasil.gov.agenda
VERSION:1.0
BEGIN:VEVENT
DTSTART:20210819T140000Z
DTEND:20210819T150000Z
DCREATED:20210819T130309Z
UID:Compromisso-ddfb24e29ab545bf9b0ce39f1e417c35
SEQUENCE:0
LAST-MODIFIED:20210819T130309Z
SUMMARY:Reunião com a Faculdade de Ciências Exatas (Facet)
DESCRIPTION:Demandas da Unidade Acadêmica
LOCATION:Reitoria
PRIORITY:3
TRANSP:0
END:VEVENT
END:VCALENDAR
