BEGIN:VCALENDAR
PRODID:brasil.gov.agenda
VERSION:1.0
BEGIN:VEVENT
DTSTART:20210818T143000Z
DTEND:20210818T153000Z
DCREATED:20210818T122928Z
UID:Compromisso-d508ed4fadf14599921b64dc83f6bb8a
SEQUENCE:0
LAST-MODIFIED:20210818T221803Z
SUMMARY:[Cancelada] - Reunião com o Diretor de Registro e Controle Acadêmico
DESCRIPTION:Comitê do Acervo Acadêmico Digital
LOCATION:Reitoria
PRIORITY:3
TRANSP:0
END:VEVENT
END:VCALENDAR
