BEGIN:VCALENDAR
PRODID:brasil.gov.agenda
VERSION:1.0
BEGIN:VEVENT
DTSTART:20210818T153000Z
DTEND:20210818T154000Z
DCREATED:20210818T221637Z
UID:Compromisso-b1b5132646a741528b3deae0589f85c2
SEQUENCE:0
LAST-MODIFIED:20210818T221637Z
SUMMARY:Reunião com a Presidente da Comissão de Ética
DESCRIPTION:Demanda interna
LOCATION:Reitoria
PRIORITY:3
TRANSP:0
END:VEVENT
END:VCALENDAR
