BEGIN:VCALENDAR
PRODID:brasil.gov.agenda
VERSION:1.0
BEGIN:VEVENT
DTSTART:20210818T080000Z
DTEND:20210818T120000Z
DCREATED:20210818T113659Z
UID:Compromisso-52e7d9df76524ff5b8c5e1146264cd43
SEQUENCE:0
LAST-MODIFIED:20210818T113659Z
SUMMARY:Despachos Internos
LOCATION:Reitoria
PRIORITY:3
TRANSP:0
END:VEVENT
END:VCALENDAR
