BEGIN:VCALENDAR
PRODID:brasil.gov.agenda
VERSION:1.0
BEGIN:VEVENT
DTSTART:20210817T100000Z
DTEND:20210817T110000Z
DCREATED:20210817T130849Z
UID:Compromisso-1d7dfaf18eb747c49060cd3ceff4cf42
SEQUENCE:0
LAST-MODIFIED:20210817T130849Z
SUMMARY:Reunião com a Secretaria de Processo Administrativo (SecPad) e Ouvidoria
DESCRIPTION:Processo restrito
LOCATION:Reitoria
PRIORITY:3
TRANSP:0
END:VEVENT
END:VCALENDAR
