BEGIN:VCALENDAR
PRODID:brasil.gov.agenda
VERSION:1.0
BEGIN:VEVENT
DTSTART:20210817T080000Z
DTEND:20210817T100000Z
DCREATED:20210817T130646Z
UID:Compromisso-6ff8609f8cfa483dbe1a89f5cb2eac86
SEQUENCE:0
LAST-MODIFIED:20210817T130646Z
SUMMARY:Despachos Internos
LOCATION:Reitoria
PRIORITY:3
TRANSP:0
END:VEVENT
END:VCALENDAR
