BEGIN:VCALENDAR
PRODID:brasil.gov.agenda
VERSION:1.0
BEGIN:VEVENT
DTSTART:20210817T140000Z
DTEND:20210817T180000Z
DCREATED:20210817T130937Z
UID:Compromisso-5ce9df789eaf4f179c7ddd21a232d37a
SEQUENCE:0
LAST-MODIFIED:20210817T130937Z
SUMMARY:Despachos Internos
LOCATION:Reitoria
PRIORITY:3
TRANSP:0
END:VEVENT
END:VCALENDAR
