BEGIN:VCALENDAR
PRODID:brasil.gov.agenda
VERSION:1.0
BEGIN:VEVENT
DTSTART:20210812T080000Z
DTEND:20210812T120000Z
DCREATED:20210813T111850Z
UID:Compromisso-9e7e32784df043259c45bb30d0e919f6
SEQUENCE:0
LAST-MODIFIED:20210813T111851Z
SUMMARY:Despachos Internos
LOCATION:Reitoria
PRIORITY:3
TRANSP:0
END:VEVENT
END:VCALENDAR
