BEGIN:VCALENDAR
PRODID:brasil.gov.agenda
VERSION:1.0
BEGIN:VEVENT
DTSTART:20210812T140000Z
DTEND:20210812T180000Z
DCREATED:20210813T111917Z
UID:Compromisso-ae0003afd96547e59834aa3b59f56692
SEQUENCE:0
LAST-MODIFIED:20210813T111917Z
SUMMARY:Despachos Internos
LOCATION:Reitoria
PRIORITY:3
TRANSP:0
END:VEVENT
END:VCALENDAR
