BEGIN:VCALENDAR
PRODID:brasil.gov.agenda
VERSION:1.0
BEGIN:VEVENT
DTSTART:20210811T080000Z
DTEND:20210811T120000Z
DCREATED:20210811T171008Z
UID:Compromisso-94f348de37d84f06b1d75550e3b8cb50
SEQUENCE:0
LAST-MODIFIED:20210811T171008Z
SUMMARY:Despachos Internos
LOCATION:Reitoria
PRIORITY:3
TRANSP:0
END:VEVENT
END:VCALENDAR
