BEGIN:VCALENDAR
PRODID:brasil.gov.agenda
VERSION:1.0
BEGIN:VEVENT
DTSTART:20210809T080000Z
DTEND:20210809T120000Z
DCREATED:20210809T164316Z
UID:Compromisso-5e05ed76d5ab49e29bb6c2f630ce3508
SEQUENCE:0
LAST-MODIFIED:20210809T164316Z
SUMMARY:Despachos Internos
LOCATION:Reitoria
PRIORITY:3
TRANSP:0
END:VEVENT
END:VCALENDAR
