BEGIN:VCALENDAR
PRODID:brasil.gov.agenda
VERSION:1.0
BEGIN:VEVENT
DTSTART:20210809T140000Z
DTEND:20210809T180000Z
DCREATED:20210809T164336Z
UID:Compromisso-5ceb3616c96541fe8d2981ee379b0c11
SEQUENCE:0
LAST-MODIFIED:20210809T164336Z
SUMMARY:Despachos Internos
LOCATION:Reitoria
PRIORITY:3
TRANSP:0
END:VEVENT
END:VCALENDAR
