BEGIN:VCALENDAR
PRODID:brasil.gov.agenda
VERSION:1.0
BEGIN:VEVENT
DTSTART:20210806T080000Z
DTEND:20210806T120000Z
DCREATED:20210806T110959Z
UID:Compromisso-ede4a2006c91445387ad3eb0fae9dd09
SEQUENCE:0
LAST-MODIFIED:20210806T110959Z
SUMMARY:Despachos Internos
LOCATION:Reitoria
PRIORITY:3
TRANSP:0
END:VEVENT
END:VCALENDAR
