BEGIN:VCALENDAR
PRODID:brasil.gov.agenda
VERSION:1.0
BEGIN:VEVENT
DTSTART:20210806T140000Z
DTEND:20210806T180000Z
DCREATED:20210806T111129Z
UID:Compromisso-f25516296e794aa6b48e24f392d489f5
SEQUENCE:0
LAST-MODIFIED:20210806T111129Z
SUMMARY:Despachos Internos
LOCATION:Reitoria
PRIORITY:3
TRANSP:0
END:VEVENT
END:VCALENDAR
