BEGIN:VCALENDAR
PRODID:brasil.gov.agenda
VERSION:1.0
BEGIN:VEVENT
DTSTART:20210805T080000Z
DTEND:20210805T120000Z
DCREATED:20210805T112154Z
UID:Compromisso-3781c37aa58e46b4b6466990f2bcf3fb
SEQUENCE:0
LAST-MODIFIED:20210805T112154Z
SUMMARY:Despachos Internos
LOCATION:Reitoria
PRIORITY:3
TRANSP:0
END:VEVENT
END:VCALENDAR
