BEGIN:VCALENDAR
PRODID:brasil.gov.agenda
VERSION:1.0
BEGIN:VEVENT
DTSTART:20210805T140000Z
DTEND:20210805T180000Z
DCREATED:20210805T112215Z
UID:Compromisso-c0ac62efa062408a9f83d4efb0d71756
SEQUENCE:0
LAST-MODIFIED:20210805T112215Z
SUMMARY:Despachos Internos
LOCATION:Reitoria
PRIORITY:3
TRANSP:0
END:VEVENT
END:VCALENDAR
