BEGIN:VCALENDAR
PRODID:brasil.gov.agenda
VERSION:1.0
BEGIN:VEVENT
DTSTART:20210803T140000Z
DTEND:20210803T150000Z
DCREATED:20210803T131433Z
UID:Compromisso-eca684654011420bb3f437a2c820dfe8
SEQUENCE:0
LAST-MODIFIED:20210803T131523Z
SUMMARY:Reunião com a Coordenação da  Licenciatura em Educação do Campo
DESCRIPTION:Questões orçamentárias do curso LEC
LOCATION:Compromisso on-line
PRIORITY:3
TRANSP:0
END:VEVENT
END:VCALENDAR
