BEGIN:VCALENDAR
PRODID:brasil.gov.agenda
VERSION:1.0
BEGIN:VEVENT
DTSTART:20210803T150000Z
DTEND:20210803T180000Z
DCREATED:20210803T131535Z
UID:Compromisso-3940a4b6850e4613b39e2c0f5acec473
SEQUENCE:0
LAST-MODIFIED:20210803T131535Z
SUMMARY:Despachos Internos
LOCATION:Reitoria
PRIORITY:3
TRANSP:0
END:VEVENT
END:VCALENDAR
