BEGIN:VCALENDAR
PRODID:brasil.gov.agenda
VERSION:1.0
BEGIN:VEVENT
DTSTART:20210802T080000Z
DTEND:20210802T120000Z
DCREATED:20210802T113715Z
UID:Compromisso-3f36c582240e424f92add754c4e68715
SEQUENCE:0
LAST-MODIFIED:20210802T113715Z
SUMMARY:Despachos Internos
LOCATION:Reitoria
PRIORITY:3
TRANSP:0
END:VEVENT
END:VCALENDAR
