BEGIN:VCALENDAR
PRODID:brasil.gov.agenda
VERSION:1.0
BEGIN:VEVENT
DTSTART:20210802T140000Z
DTEND:20210802T180000Z
DCREATED:20210802T113740Z
UID:Compromisso-49e8deeaabc24e5e8ac27802e6f058f2
SEQUENCE:0
LAST-MODIFIED:20210802T113740Z
SUMMARY:Despachos Internos
LOCATION:Reitoria
PRIORITY:3
TRANSP:0
END:VEVENT
END:VCALENDAR
