BEGIN:VCALENDAR
PRODID:brasil.gov.agenda
VERSION:1.0
BEGIN:VEVENT
DTSTART:20210801T140000Z
DTEND:20210801T180000Z
DCREATED:20210831T170604Z
UID:Compromisso-d241fd5b256f4f6397bba7989b2974b6
SEQUENCE:0
LAST-MODIFIED:20210831T170604Z
SUMMARY:248ª reunião\, sendo a 101ª sessão em caráter extraordinário do CONSU
LOCATION:Compromisso on-line
PRIORITY:3
TRANSP:0
END:VEVENT
END:VCALENDAR
