BEGIN:VCALENDAR
PRODID:brasil.gov.agenda
VERSION:1.0
BEGIN:VEVENT
DTSTART:20210730T080000Z
DTEND:20210730T120000Z
DCREATED:20210730T174029Z
UID:Compromisso-215ffea7d276400e8fcab833e07b9730
SEQUENCE:0
LAST-MODIFIED:20210730T174029Z
SUMMARY:Despachos Internos
LOCATION:Reitoria
PRIORITY:3
TRANSP:0
END:VEVENT
END:VCALENDAR
