BEGIN:VCALENDAR
PRODID:brasil.gov.agenda
VERSION:1.0
BEGIN:VEVENT
DTSTART:20210728T080000Z
DTEND:20210728T120000Z
DCREATED:20210728T171620Z
UID:Compromisso-c4020a0510f142a3b390382fb99691ce
SEQUENCE:0
LAST-MODIFIED:20210728T171620Z
SUMMARY:Despachos Internos
LOCATION:Reitoria
PRIORITY:3
TRANSP:0
END:VEVENT
END:VCALENDAR
