BEGIN:VCALENDAR
PRODID:brasil.gov.agenda
VERSION:1.0
BEGIN:VEVENT
DTSTART:20210728T143000Z
DTEND:20210728T150000Z
DCREATED:20210728T171727Z
UID:Compromisso-14b7e564ddbe42c2aa53ecd31957909a
SEQUENCE:0
LAST-MODIFIED:20210728T171727Z
SUMMARY:Colação de grau posterior
LOCATION:Compromisso on-line
PRIORITY:3
TRANSP:0
END:VEVENT
END:VCALENDAR
