BEGIN:VCALENDAR
PRODID:brasil.gov.agenda
VERSION:1.0
BEGIN:VEVENT
DTSTART:20210728T140000Z
DTEND:20210728T143000Z
DCREATED:20210728T171653Z
UID:Compromisso-17cf990fbdcb4ece975152294b853763
SEQUENCE:0
LAST-MODIFIED:20210728T171653Z
SUMMARY:Colação de grau antecipada
LOCATION:Compromisso on-line
PRIORITY:3
TRANSP:0
END:VEVENT
END:VCALENDAR
